BEGIN:VCALENDAR
VERSION:2.0
PRODID:-//Société française de philosophie - ECPv6.15.20//NONSGML v1.0//EN
CALSCALE:GREGORIAN
METHOD:PUBLISH
X-WR-CALNAME:Société française de philosophie
X-ORIGINAL-URL:https://www.sofrphilo.fr
X-WR-CALDESC:Évènements pour Société française de philosophie
REFRESH-INTERVAL;VALUE=DURATION:PT1H
X-Robots-Tag:noindex
X-PUBLISHED-TTL:PT1H
BEGIN:VTIMEZONE
TZID:Europe/Helsinki
BEGIN:DAYLIGHT
TZOFFSETFROM:+0200
TZOFFSETTO:+0300
TZNAME:EEST
DTSTART:20210328T010000
END:DAYLIGHT
BEGIN:STANDARD
TZOFFSETFROM:+0300
TZOFFSETTO:+0200
TZNAME:EET
DTSTART:20211031T010000
END:STANDARD
BEGIN:DAYLIGHT
TZOFFSETFROM:+0200
TZOFFSETTO:+0300
TZNAME:EEST
DTSTART:20220327T010000
END:DAYLIGHT
BEGIN:STANDARD
TZOFFSETFROM:+0300
TZOFFSETTO:+0200
TZNAME:EET
DTSTART:20221030T010000
END:STANDARD
BEGIN:DAYLIGHT
TZOFFSETFROM:+0200
TZOFFSETTO:+0300
TZNAME:EEST
DTSTART:20230326T010000
END:DAYLIGHT
BEGIN:STANDARD
TZOFFSETFROM:+0300
TZOFFSETTO:+0200
TZNAME:EET
DTSTART:20231029T010000
END:STANDARD
END:VTIMEZONE
BEGIN:VEVENT
DTSTART;TZID=Europe/Helsinki:20220521T160000
DTEND;TZID=Europe/Helsinki:20220521T180000
DTSTAMP:20260426T064708
CREATED:20220320T102024Z
LAST-MODIFIED:20220520T080852Z
UID:9458-1653148800-1653156000@www.sofrphilo.fr
SUMMARY:"La vieille querelle entre philosophie et poésie". Conférence par Charles Larmore
DESCRIPTION:« La vieille querelle entre philosophie et poésie »\, \nconférence par Charles Larmore (Brown University\, Providence\, Rhode Island) \nrépondant : Vincent Descombes (EHESS)\n \n  \nPlaton\, on le sait\, a parlé d’une « vieille querelle entre la philosophie et la poésie » (Rép. 607b). En réalité\, la Grèce ancienne n’a pas connu\, avant Platon\, de dispute concernant la supériorité relative de la philosophie et de la poésie. Platon l’a inventée pour légitimer son abandon de la poésie en faveur de ce qu’il appelait « philosophie »\, et qui serait\, à l’instar de la géométrie\, une forme de savoir systématique de son objet – en l’occurrence\, du rapport fondamental entre l’esprit et le monde. La poésie\, par contre\, ne s’intéresse aucunement\, dit-il\, à la vérité des choses mais seulement à l’impression qu’elles font sur nous. La querelle\, telle qu’il nous l’a léguée\, tourne ainsi autour de l’opposition entre la recherche d’explications des phénomènes et l’inclination à se fier à ses impressions. On va pourtant montrer que la poésie ne se réduit pas à un simple divertissement\, mais qu’elle vise\, elle aussi\, la connaissance\, quoique d’une nature bien différente. \nParfois\, un poème peut nous faire ressentir des vérités que notre propre conception du monde – ou (comme chez Lucrèce) la philosophie du poète lui-même – est incapable de reconnaître. Mais ce n’est pas parce que la poésie s’attache à communiquer des vérités. C’est parce qu’elle cherche plutôt à évoquer des expériences. Car l’évocation d’expériences peut avoir pour effet secondaire\, même involontaire\, de suggérer des vérités jusque-là insoupçonnées. Il reste pourtant qu’une meilleure philosophie est toujours à même de rectifier l’erreur. Aussi certains poètes philosophes (Hölderlin\, Y. Bonnefoy) ont-ils eu tort de croire que la poésie seule\, non la philosophie ou d’ailleurs le savoir systématique\, est en mesure de nous dévoiler des vérités fondamentales de la condition humaine. \nIl existe néanmoins quelque chose que la poésie seule\, non la philosophie\, peut accomplir. En général\, il faut distinguer entre connaissance de vérités et connaissance de choses. Or\, le genre de connaissance que vise la poésie\, à la différence de la philosophie\, est de ce dernier type. C’est justement la connaissance d’expériences\, c’est-à-dire de l’effet que cela fait de faire ceci ou d’être cela. Ainsi\, la vieille querelle entre philosophie et poésie repose sur un malentendu. Car connaissance de vérités et connaissance d’expériences ne sont pas en concurrence. La poésie cherche à exprimer des expériences de manière puissante et mémorable\, ce qui ne relève pas de la compétence de la philosophie. Cela explique le souci particulier du langage\, de rythme et de tournures\, qui est caractéristique de la poésie. \n  \nLes non-adhérents à la SFP peuvent demander une invitation ou le lien de connexion pour la visioconférence en utilisant ce formulaire : cliquer ici.  \nNB du 19 mai. Le dépôt des demandes est clos.\n \nPartager :\n				Envoyer un lien par e-mail à un ami(ouvre dans une nouvelle fenêtre)\n				E-mail\n			\n				Partager sur X(ouvre dans une nouvelle fenêtre)\n				X\n			\n				Partager sur Facebook(ouvre dans une nouvelle fenêtre)\n				Facebook\n			\n				Partager sur LinkedIn(ouvre dans une nouvelle fenêtre)\n				LinkedIn\n			\n				Imprimer(ouvre dans une nouvelle fenêtre)\n				Imprimer
URL:https://www.sofrphilo.fr/evenement/conference-par-charles-larmore/
LOCATION:Université Paris I (Panthéon-Sorbonne)\, salle 1\, Université Paris 1 Panthéon-Sorbonne\, Paris
CATEGORIES:Conférences
END:VEVENT
END:VCALENDAR