BEGIN:VCALENDAR
VERSION:2.0
PRODID:-//Société française de philosophie - ECPv6.15.20//NONSGML v1.0//EN
CALSCALE:GREGORIAN
METHOD:PUBLISH
X-WR-CALNAME:Société française de philosophie
X-ORIGINAL-URL:https://www.sofrphilo.fr
X-WR-CALDESC:Évènements pour Société française de philosophie
REFRESH-INTERVAL;VALUE=DURATION:PT1H
X-Robots-Tag:noindex
X-PUBLISHED-TTL:PT1H
BEGIN:VTIMEZONE
TZID:Europe/Helsinki
BEGIN:DAYLIGHT
TZOFFSETFROM:+0200
TZOFFSETTO:+0300
TZNAME:EEST
DTSTART:20140330T010000
END:DAYLIGHT
BEGIN:STANDARD
TZOFFSETFROM:+0300
TZOFFSETTO:+0200
TZNAME:EET
DTSTART:20141026T010000
END:STANDARD
BEGIN:DAYLIGHT
TZOFFSETFROM:+0200
TZOFFSETTO:+0300
TZNAME:EEST
DTSTART:20150329T010000
END:DAYLIGHT
BEGIN:STANDARD
TZOFFSETFROM:+0300
TZOFFSETTO:+0200
TZNAME:EET
DTSTART:20151025T010000
END:STANDARD
BEGIN:DAYLIGHT
TZOFFSETFROM:+0200
TZOFFSETTO:+0300
TZNAME:EEST
DTSTART:20160327T010000
END:DAYLIGHT
BEGIN:STANDARD
TZOFFSETFROM:+0300
TZOFFSETTO:+0200
TZNAME:EET
DTSTART:20161030T010000
END:STANDARD
END:VTIMEZONE
BEGIN:VEVENT
DTSTART;TZID=Europe/Helsinki:20150530T160000
DTEND;TZID=Europe/Helsinki:20150530T180000
DTSTAMP:20260419T154107
CREATED:20150819T123808Z
LAST-MODIFIED:20150918T212409Z
UID:182-1433001600-1433008800@www.sofrphilo.fr
SUMMARY:L'instrument de musique à l'intersection de l'art et de la technique (par Bernard Sève)
DESCRIPTION:Bernard Sève\nLa musique est le seul art\, remarque Hegel\, qui doive produire son matériau (le son musical\, qui n’est pas le son du monde) ; elle doit donc préalablement fabriquer des objets destinés à produire ce matériau. Ce sont les instruments de musique\, qui n’ont aucun équivalent ou correspondant dans les autres arts. Condition de la musique\, l’instrument n’est pourtant pas une œuvre d’art au sens complet de cette notion (encore que sa beauté plastique ne soit pas réductible à une ornementation de surface) ; le luthier\, qui le fabrique\, n’est pas considéré comme un artiste de plein droit\, quoique sans lui la musique n’existerait pas (l’objection de la musique a cappella n’est pas ignorée). L’instrument de musique est pleinement un objet technique\, mais il est difficile à classer selon les distinctions d’Aristote ou de Simondon. L’instrument de musique est en effet fonctionnellement sous-déterminé\, ce qui est un des éléments d’explication du nombre prodigieux d’instruments inventés et fabriqués par l’humanité (le Grove Dictionary of Musical Instruments recense 12.000 types d’instruments\, alors même qu’il ne prend pas en compte les instruments  » monstrueux  » ou inutilisés). À l’intersection de l’histoire des arts et de l’histoire des techniques\, l’instrument de musique offre un point d’appui empirique et conceptuel remarquable pour problématiser les ressorts de l’invention artistique et technique\, non moins que pour articuler les logiques divergentes de ces deux formes d’histoire. Bernard Sève est professeur à l’université Charles de Gaulle Lille 3. \nPartager :\n				Envoyer un lien par e-mail à un ami(ouvre dans une nouvelle fenêtre)\n				E-mail\n			\n				Partager sur X(ouvre dans une nouvelle fenêtre)\n				X\n			\n				Partager sur Facebook(ouvre dans une nouvelle fenêtre)\n				Facebook\n			\n				Partager sur LinkedIn(ouvre dans une nouvelle fenêtre)\n				LinkedIn\n			\n				Imprimer(ouvre dans une nouvelle fenêtre)\n				Imprimer
URL:https://www.sofrphilo.fr/evenement/linstrument-de-musique-a-lintersection-de-lart-et-de-la-technique/
LOCATION:Université Paris-Sorbonne\, amphi Michelet\, 46 rue Saint-Jacques\, Paris\, 75005 \, France Métropolitaine
CATEGORIES:Conférences
END:VEVENT
END:VCALENDAR