BEGIN:VCALENDAR
VERSION:2.0
PRODID:-//Société française de philosophie - ECPv6.15.20//NONSGML v1.0//EN
CALSCALE:GREGORIAN
METHOD:PUBLISH
X-ORIGINAL-URL:https://www.sofrphilo.fr
X-WR-CALDESC:Évènements pour Société française de philosophie
REFRESH-INTERVAL;VALUE=DURATION:PT1H
X-Robots-Tag:noindex
X-PUBLISHED-TTL:PT1H
BEGIN:VTIMEZONE
TZID:Europe/Helsinki
BEGIN:DAYLIGHT
TZOFFSETFROM:+0200
TZOFFSETTO:+0300
TZNAME:EEST
DTSTART:20160327T010000
END:DAYLIGHT
BEGIN:STANDARD
TZOFFSETFROM:+0300
TZOFFSETTO:+0200
TZNAME:EET
DTSTART:20161030T010000
END:STANDARD
BEGIN:DAYLIGHT
TZOFFSETFROM:+0200
TZOFFSETTO:+0300
TZNAME:EEST
DTSTART:20170326T010000
END:DAYLIGHT
BEGIN:STANDARD
TZOFFSETFROM:+0300
TZOFFSETTO:+0200
TZNAME:EET
DTSTART:20171029T010000
END:STANDARD
BEGIN:DAYLIGHT
TZOFFSETFROM:+0200
TZOFFSETTO:+0300
TZNAME:EEST
DTSTART:20180325T010000
END:DAYLIGHT
BEGIN:STANDARD
TZOFFSETFROM:+0300
TZOFFSETTO:+0200
TZNAME:EET
DTSTART:20181028T010000
END:STANDARD
END:VTIMEZONE
BEGIN:VEVENT
DTSTART;TZID=Europe/Helsinki:20170318T100000
DTEND;TZID=Europe/Helsinki:20170318T123000
DTSTAMP:20260424T184034
CREATED:20170225T151111Z
LAST-MODIFIED:20170225T151111Z
UID:2983-1489831200-1489840200@www.sofrphilo.fr
SUMMARY:Atelier "L'idée de République"\, 3e séance
DESCRIPTION:Voir les renseignements sur le site consacré aux Ateliers. \nPartager :\n				Envoyer un lien par e-mail à un ami(ouvre dans une nouvelle fenêtre)\n				E-mail\n			\n				Partager sur X(ouvre dans une nouvelle fenêtre)\n				X\n			\n				Partager sur Facebook(ouvre dans une nouvelle fenêtre)\n				Facebook\n			\n				Partager sur LinkedIn(ouvre dans une nouvelle fenêtre)\n				LinkedIn\n			\n				Imprimer(ouvre dans une nouvelle fenêtre)\n				Imprimer
URL:https://www.sofrphilo.fr/evenement/atelier-lidee-de-republique-3e-seance/
LOCATION:Ecole Normale supérieure\, 45 rue d'Ulm\, Paris\, 75005\, France Métropolitaine
CATEGORIES:Ateliers
END:VEVENT
BEGIN:VEVENT
DTSTART;TZID=Europe/Helsinki:20170318T150000
DTEND;TZID=Europe/Helsinki:20170318T160000
DTSTAMP:20260424T184034
CREATED:20170225T150529Z
LAST-MODIFIED:20170225T150529Z
UID:2980-1489849200-1489852800@www.sofrphilo.fr
SUMMARY:Assemblée générale des membres sociétaires
DESCRIPTION:Ordre du jour : \n\nRapport moral\nRapport financier\nQuestions diverses\n\nL’AG précédera la conférence d’Isabelle Thomas-Fogiel. Pour y assister\, il suffit de s’inscrire pour la conférence. \nLes membres sociétaires recevront une convocation expresse début mars. \n  \nPartager :\n				Envoyer un lien par e-mail à un ami(ouvre dans une nouvelle fenêtre)\n				E-mail\n			\n				Partager sur X(ouvre dans une nouvelle fenêtre)\n				X\n			\n				Partager sur Facebook(ouvre dans une nouvelle fenêtre)\n				Facebook\n			\n				Partager sur LinkedIn(ouvre dans une nouvelle fenêtre)\n				LinkedIn\n			\n				Imprimer(ouvre dans une nouvelle fenêtre)\n				Imprimer
URL:https://www.sofrphilo.fr/evenement/assemblee-generale-membres-societaires/
LOCATION:Sorbonne\, amphi Edgar Quinet\, 46 rue Saint-Jacques\, Paris\, 75005
CATEGORIES:Vie de l'association
END:VEVENT
BEGIN:VEVENT
DTSTART;TZID=Europe/Helsinki:20170318T160000
DTEND;TZID=Europe/Helsinki:20170318T180000
DTSTAMP:20260424T184034
CREATED:20160909T145203Z
LAST-MODIFIED:20170319T142556Z
UID:2678-1489852800-1489860000@www.sofrphilo.fr
SUMMARY:Tristes réalismes. Exploration d’un tropisme philosophique contemporain (par Isabelle Thomas-Fogiel)
DESCRIPTION:La réflexion proposée dans cette conférence prend sa source dans un étonnement\, voire une stupéfaction\, face à la configuration de la philosophie de ces trente dernières années. En effet\, la production philosophique paraît s’y réduire à une unique revendication\, que l’on pourrait résumer par cette injonction lancée aux enfants du siècle : « Faites-vous réalistes ». Et de fait\, qu’il faille être réaliste\, et non plus relativiste comme dans les années 60\, semble ne plus faire de doute pour bon nombre de philosophes aujourd’hui. Citons\, à cet égard\, quelques titres  récents\, extraits de la production italienne\, française et anglo-américaine\, soit\, Ferraris : Le manifeste du nouveau réalisme ; Romano : Pour un réalisme du monde de la vie ; Putnam : Le réalisme à visage humain ; Diamond : L’esprit réaliste ; Benoist : Eléments de philosophie réaliste ; Meillassoux\, Brassier\, Grant et Harman : Le tournant spéculatif\, réalisme et matérialisme continental ou encore Tiercelin : Petit traité de métaphysique réaliste scientifique\, tous titres que condense\, au final\, un collectif allemand de 2013 : Le réalisme maintenant ! Or\, sauf à postuler que ces auteurs revendiquent le terme de « réalisme » sans autre finalité que d’ornement\, ou encore à démontrer qu’une autre notion fédère une quantité aussi importante de textes aujourd’hui\, il semble difficile\, pour l’historien de la philosophie\, de ne pas s’interroger sur ce phénomène de cristallisation\, qui est d’autant plus étonnant que ses origines sont à ce point multiples (de la phénoménologie à la philosophie du langage ordinaire\, en passant par la métaphysique analytique comme continentale) qu’il transcende les grandes partitions qui ont structuré\, depuis l’après-guerre\, notre paysage philosophique (telle\, celle entre analytique et continentale). C’est ce phénomène de cristallisation qui sera l’objet de mon étude. \nTrois questions seront ainsi posées : tout d’abord\, que signifie\, pour ceux qui le revendiquent aujourd’hui\, le terme « réalisme »\, ou\, pour le dire autrement\, quels sont les actes fondamentaux qui\, par-delà la diversité des approches\, sont communs à tous et donnent quelque consistance à l’appellation affichée ? Peut-on\, ensuite\, à partir de l’analyse de ces principes structurels qui délimitent la sphère du réalisme contemporain\, en repérer les apories\, ou pour le dire de manière moins négative\, dessiner les interrogations que suscite cette actuelle configuration\, interrogations qui peuvent être conçues comme autant de pistes de recherche pour qui voudrait affermir\, ou à l’inverse critiquer\, cette nouvelle constellation conceptuelle? Enfin\, ces problèmes rencontrés ne nous conduisent-ils pas à revenir sur la définition de la vérité unanimement mise en avant par les actuels réalistes ? Cette définition\, arrimant la vérité à la seule réalité\, semble occulter l’un des autres visages de la vérité\, à savoir l’universalité. Cette occultation\, pour être partagée aujourd’hui\, n’en est pas moins philosophiquement problématique en ce qu’elle génère de multiples contradictions au sein même des doctrines qui entendent faire l’économie de l’universel. Peut-on vraiment abandonner la notion d’universalité ? Peut-on\, d’ailleurs\, la caractériser et en spécifier la dynamique ? Questions qui nous entraîneront\, à terme\, à tenter de comprendre comment les philosophes sont moins des montreurs de réel que des architectes de l’universel. \nIsabelle Thomas-Fogiel est professeur à l’université d’Ottawa (détachée université Paris-I). Voir sa page web sur le site de l’université d’Ottawa. Voir sa page web personnelle. \nPartager :\n				Envoyer un lien par e-mail à un ami(ouvre dans une nouvelle fenêtre)\n				E-mail\n			\n				Partager sur X(ouvre dans une nouvelle fenêtre)\n				X\n			\n				Partager sur Facebook(ouvre dans une nouvelle fenêtre)\n				Facebook\n			\n				Partager sur LinkedIn(ouvre dans une nouvelle fenêtre)\n				LinkedIn\n			\n				Imprimer(ouvre dans une nouvelle fenêtre)\n				Imprimer
URL:https://www.sofrphilo.fr/evenement/tristes-realismes-isabelle-thomas-fogiel/
LOCATION:Sorbonne\, amphi Edgar Quinet\, 46 rue Saint-Jacques\, Paris\, 75005
CATEGORIES:Conférences
END:VEVENT
END:VCALENDAR