BEGIN:VCALENDAR
VERSION:2.0
PRODID:-//Société française de philosophie - ECPv6.15.20//NONSGML v1.0//EN
CALSCALE:GREGORIAN
METHOD:PUBLISH
X-ORIGINAL-URL:https://www.sofrphilo.fr
X-WR-CALDESC:Évènements pour Société française de philosophie
REFRESH-INTERVAL;VALUE=DURATION:PT1H
X-Robots-Tag:noindex
X-PUBLISHED-TTL:PT1H
BEGIN:VTIMEZONE
TZID:Europe/Helsinki
BEGIN:DAYLIGHT
TZOFFSETFROM:+0200
TZOFFSETTO:+0300
TZNAME:EEST
DTSTART:20180325T010000
END:DAYLIGHT
BEGIN:STANDARD
TZOFFSETFROM:+0300
TZOFFSETTO:+0200
TZNAME:EET
DTSTART:20181028T010000
END:STANDARD
BEGIN:DAYLIGHT
TZOFFSETFROM:+0200
TZOFFSETTO:+0300
TZNAME:EEST
DTSTART:20190331T010000
END:DAYLIGHT
BEGIN:STANDARD
TZOFFSETFROM:+0300
TZOFFSETTO:+0200
TZNAME:EET
DTSTART:20191027T010000
END:STANDARD
BEGIN:DAYLIGHT
TZOFFSETFROM:+0200
TZOFFSETTO:+0300
TZNAME:EEST
DTSTART:20200329T010000
END:DAYLIGHT
BEGIN:STANDARD
TZOFFSETFROM:+0300
TZOFFSETTO:+0200
TZNAME:EET
DTSTART:20201025T010000
END:STANDARD
END:VTIMEZONE
BEGIN:VEVENT
DTSTART;TZID=Europe/Helsinki:20190109T143000
DTEND;TZID=Europe/Helsinki:20190109T183000
DTSTAMP:20260425T203748
CREATED:20180524T152107Z
LAST-MODIFIED:20181216T150415Z
UID:3747-1547044200-1547058600@www.sofrphilo.fr
SUMMARY:Réunion du bureau
DESCRIPTION:Bureau SFP : 14h30. \nCO Congrès ASPLF : 16h30. \nPartager :\n				Envoyer un lien par e-mail à un ami(ouvre dans une nouvelle fenêtre)\n				E-mail\n			\n				Partager sur X(ouvre dans une nouvelle fenêtre)\n				X\n			\n				Partager sur Facebook(ouvre dans une nouvelle fenêtre)\n				Facebook\n			\n				Partager sur LinkedIn(ouvre dans une nouvelle fenêtre)\n				LinkedIn\n			\n				Imprimer(ouvre dans une nouvelle fenêtre)\n				Imprimer
URL:https://www.sofrphilo.fr/evenement/reunion-du-bureau-2/
CATEGORIES:Vie de l'association
END:VEVENT
BEGIN:VEVENT
DTSTART;TZID=Europe/Helsinki:20190119T100000
DTEND;TZID=Europe/Helsinki:20190119T123000
DTSTAMP:20260425T203748
CREATED:20181120T101258Z
LAST-MODIFIED:20181120T101329Z
UID:4169-1547892000-1547901000@www.sofrphilo.fr
SUMMARY:Atelier L'idée de République
DESCRIPTION:2e séance de l’Atelier « L’idée de république 3e année »\, sous la responsabilité de Jacques Doly et Jean-Michel Muglioni. \nIntervenante : Nadia Fartas \nDétails sur le site des Ateliers \nPartager :\n				Envoyer un lien par e-mail à un ami(ouvre dans une nouvelle fenêtre)\n				E-mail\n			\n				Partager sur X(ouvre dans une nouvelle fenêtre)\n				X\n			\n				Partager sur Facebook(ouvre dans une nouvelle fenêtre)\n				Facebook\n			\n				Partager sur LinkedIn(ouvre dans une nouvelle fenêtre)\n				LinkedIn\n			\n				Imprimer(ouvre dans une nouvelle fenêtre)\n				Imprimer
URL:https://www.sofrphilo.fr/evenement/atelier-lidee-de-republique/
LOCATION:ENS 45 rue d’Ulm 75005 salle Weil\, 45 rue d'Ulm\, Paris\, 75005\, France
CATEGORIES:Ateliers
END:VEVENT
BEGIN:VEVENT
DTSTART;TZID=Europe/Helsinki:20190119T143000
DTEND;TZID=Europe/Helsinki:20190119T160000
DTSTAMP:20260425T203748
CREATED:20181119T140422Z
LAST-MODIFIED:20181119T140422Z
UID:4151-1547908200-1547913600@www.sofrphilo.fr
SUMMARY:AG extraordinaire et CA
DESCRIPTION:Assemblée générale extraordinaire des membres sociétaires et Conseil d’administration. \nOrdre du jour prévisionnel : \n\nElection définitive d’un nouveau membre du CA après l’élection provisoire de Laurent Jaffro par le CA du 17 novembre 2018. Article 5 des statuts.\nA l’issue de cette élection\, et toujours en application de l’article 5 des statuts\, le CA se réunira pour élire en son sein le nouveau trésorier et le nouveau président de la SFP après la démission de Didier Deleule (présentée le 17 novembre 2018).\nReprise des travaux de l’AG : débat consultatif sur les questions intéressant la Société.\n\nPartager :\n				Envoyer un lien par e-mail à un ami(ouvre dans une nouvelle fenêtre)\n				E-mail\n			\n				Partager sur X(ouvre dans une nouvelle fenêtre)\n				X\n			\n				Partager sur Facebook(ouvre dans une nouvelle fenêtre)\n				Facebook\n			\n				Partager sur LinkedIn(ouvre dans une nouvelle fenêtre)\n				LinkedIn\n			\n				Imprimer(ouvre dans une nouvelle fenêtre)\n				Imprimer
URL:https://www.sofrphilo.fr/evenement/ag-extraordinaire-et-ca/
LOCATION:Centre Panthéon\, Univ. Paris 1 Panthéon-Sorbonne\, salle 1\, 12 place du Panthéon (esc. M\, 1er ét.)\, Paris\, 75005
CATEGORIES:Vie de l'association
END:VEVENT
BEGIN:VEVENT
DTSTART;TZID=Europe/Helsinki:20190119T160000
DTEND;TZID=Europe/Helsinki:20190119T180000
DTSTAMP:20260425T203748
CREATED:20181119T135724Z
LAST-MODIFIED:20190117T220610Z
UID:4149-1547913600-1547920800@www.sofrphilo.fr
SUMMARY:"Le monde : impératif ou donné ?" par Michaël Fœssel
DESCRIPTION:Conférence : « Le monde : impératif ou donné ? » par Michaël Fœssel\, professeur de philosophie à l’École polytechnique \nDe nos jours\, la question du monde se pose à l’aune de sa disparition prochaine. Le réchauffement climatique\, la crise écologique\, plus rarement la prolifération nucléaire ont ramené sur le devant de la scène des scénarios apocalyptiques que l’on pensait réservés à des temps religieux. Mais qu’est-ce que le monde pour que nous tenions à sa perpétuation ? Cette question\, la philosophie l’a abordée soit en construisant un concept normatif et rationnel de monde (comme ordre\, cosmos\, Nature)\, soit en l’envisageant sur un mode descriptif et sensible (comme l’horizon de tout apparaître singulier). Le monde désigne ou bien une idée à laquelle il faut soumettre les assemblages empiriques menacés de sombrer dans le chaos\, ou bien cet assemblage empirique lui-même en tant qu’il est déjà lié par un certain ordre. Cette conférence propose de sortir de l’alternative entre le monde comme « norme » et le monde comme « donné ». En adoptant une perspective résolument transcendantale\, on essaiera de montrer comment la normativité du monde sourd de son apparaître et comment\, réciproquement\, le phénomène du monde est\, comme tel\, doué d’un type singulier de normativité. La formule du sens commun selon laquelle « il faut de tout pour faire un monde » servira de fil conducteur. Elle vaut à la fois comme indication sur la dimension indissociablement descriptive et normative de ce concept\, et comme avertissement sur les écueils liés à ce concept trop souvent identifié à celui de « totalité ». Si le monde est une norme\, celle-ci ne se laisse pas entièrement exprimer dans le langage métaphysique de l’idéalité. De Kant à la phénoménologie\, dans un cadre que l’on dirait aujourd’hui « corrélationniste »\, le monde se présente sous la figure paradoxale d’une transcendance qui n’a pas d’autre site que le sensible.  Bien plus que comme nature\, vie ou réel\, c’est à ce titre qu’il mérité d’être préservé\, c’est-à-dire institué. \n  \nPour assister à la séance\, s’inscrire (ou demander une invitation pour les non-adhérents) avant le 17 janvier 2019 à l’aide du formulaire sur cette page. \n17 janvier. Les inscriptions sont closes\, nous avons atteint la limite des places disponibles\n \nPartager :\n				Envoyer un lien par e-mail à un ami(ouvre dans une nouvelle fenêtre)\n				E-mail\n			\n				Partager sur X(ouvre dans une nouvelle fenêtre)\n				X\n			\n				Partager sur Facebook(ouvre dans une nouvelle fenêtre)\n				Facebook\n			\n				Partager sur LinkedIn(ouvre dans une nouvelle fenêtre)\n				LinkedIn\n			\n				Imprimer(ouvre dans une nouvelle fenêtre)\n				Imprimer
URL:https://www.sofrphilo.fr/evenement/conference-de-michael-foessel/
LOCATION:Centre Panthéon\, Univ. Paris 1 Panthéon-Sorbonne\, salle 1\, 12 place du Panthéon (esc. M\, 1er ét.)\, Paris\, 75005
CATEGORIES:Conférences
END:VEVENT
END:VCALENDAR