BEGIN:VCALENDAR
VERSION:2.0
PRODID:-//Société française de philosophie - ECPv6.15.20//NONSGML v1.0//EN
CALSCALE:GREGORIAN
METHOD:PUBLISH
X-ORIGINAL-URL:https://www.sofrphilo.fr
X-WR-CALDESC:Évènements pour Société française de philosophie
REFRESH-INTERVAL;VALUE=DURATION:PT1H
X-Robots-Tag:noindex
X-PUBLISHED-TTL:PT1H
BEGIN:VTIMEZONE
TZID:Europe/Helsinki
BEGIN:DAYLIGHT
TZOFFSETFROM:+0200
TZOFFSETTO:+0300
TZNAME:EEST
DTSTART:20230326T010000
END:DAYLIGHT
BEGIN:STANDARD
TZOFFSETFROM:+0300
TZOFFSETTO:+0200
TZNAME:EET
DTSTART:20231029T010000
END:STANDARD
BEGIN:DAYLIGHT
TZOFFSETFROM:+0200
TZOFFSETTO:+0300
TZNAME:EEST
DTSTART:20240331T010000
END:DAYLIGHT
BEGIN:STANDARD
TZOFFSETFROM:+0300
TZOFFSETTO:+0200
TZNAME:EET
DTSTART:20241027T010000
END:STANDARD
BEGIN:DAYLIGHT
TZOFFSETFROM:+0200
TZOFFSETTO:+0300
TZNAME:EEST
DTSTART:20250330T010000
END:DAYLIGHT
BEGIN:STANDARD
TZOFFSETFROM:+0300
TZOFFSETTO:+0200
TZNAME:EET
DTSTART:20251026T010000
END:STANDARD
END:VTIMEZONE
BEGIN:VEVENT
DTSTART;TZID=Europe/Helsinki:20241116T143000
DTEND;TZID=Europe/Helsinki:20241116T183000
DTSTAMP:20260425T133156
CREATED:20241020T164724Z
LAST-MODIFIED:20241106T151205Z
UID:15718-1731767400-1731781800@www.sofrphilo.fr
SUMMARY:Kant\, 1724-2024
DESCRIPTION:Samedi 16 novembre\, 14 h 30- 18 h 30\, université Paris 1 Panthéon-Sorbonne\, 17 rue de la Sorbonne\, 75005 Paris\, amphi Lefebvre (sur inscription seulement) – retransmission en visioconférence (sur inscription)\n \nKANT\, 1704-2024\n \nIntroduction par Christian Berner (Paris-Nanterre) \nPremière partie\, 14 h 30 – 16 h 15 \nInga Römer (Fribourg-en-Brisgau) \nQuel problème de la métaphysique ? \nDans son livre Kant et le problème de la métaphysique\, Martin Heidegger soutient que Kant visait une métaphysique critique en tant qu’ontologie. Or\, est-ce cela « le » problème de la métaphysique selon Kant ? L’intervention n’y répond pas seulement par la négative\, mais elle se propose de montrer que le débat autour de la question de savoir si Kant était ou non un métaphysicien et\, le cas échéant\, quelle métaphysique il aurait visé\, a des implications éthico-politiques importantes. Dans un premier temps\, on discutera quelques éléments d’un débat autour de Kant qui avait lieu au début du XXe siècle. Ensuite\, on se tournera vers Martin Heidegger\, qui n’est pas seulement le dernier représentant de ce débat\, mais qui y occupe\, par ailleurs\, un statut tout particulier. Enfin\, on verra que le traité inachevé que Kant avait préparé à propos de la question de concours « Quels sont les progrès réels de la métaphysique en Allemagne depuis le temps de Leibniz et de Wolff ? » esquisse une métaphysique critique que Kant appelle « pratico-dogmatique ». Cette métaphysique pratico-dogmatique ne renvoie pas seulement à une tout autre figure de la métaphysique que celle identifiée par Heidegger\, mais elle a également des enjeux éthico-politiques opposés. Or\, quel est exactement le problème de la métaphysique selon Kant\, quelles en sont les implications éthico-politiques\, et quelle pourrait être l’importance de ces questions pour la renaissance de la métaphysique à notre époque ? \n  \nAntoine Grandjean (université de Lille) \nL’idéalisme transcendental\, « concept doctrinal » et problème cardinal\n \nKant est le premier philosophe de l’histoire à se proclamer idéaliste\, et cela au point de faire de « l’idéalisme transcendantal » l’un des deux principes cardinaux – et le premier – de la « philosophie critique »\, donc aussi bien de « toute la métaphysique ». Nous rappellerons toutefois combien cette proclamation – dont nous verrons qu’elle répond d’abord à une imputation extrinsèque – allait de pair avec une redéfinition de l’idéalisme comme thèse d’idéalité. Nous nous demanderons dès lors quels problèmes posait cette détermination\, qui ne pouvait que conduire à dire la « subjectivité » dans les termes de la « représentation ». \nDiscussion. Pause. \nDeuxième partie\, 16 h 45 – 18 h 30 \n  \nMai Lequan (université Jean-Moulin – Lyon 3) \nRemarques sur les conceptions kantiennes du nomade \nIl s’agira d’examiner les divers usages et perceptions tantôt élogieux\, tantôt critiques\, tantôt descriptifs et neutres\, que Kant a pu faire de la notion de « nomadisme » à partir de l’exemple de diverses tribus (arabes ou sibériennes)\, ce que représente dans et pour le criticisme le moment du nomadisme sceptique dans l’histoire de la raison et la manière dont le droit cosmopolitique\, dans la perspective d’un projet de paix perpétuelle\, peut rattacher les nomades errants malgré tout à un type de contrat juridique\, enfin quelles sont les principales sources d’information (traités et récits de voyageurs) dont Kant disposait au sujet du nomadisme\, à partir d’un examen de ses Vorlesungen de géographie physique.  \n  \n Elena Partène (ENS) \nSublime et négativité\n \nDans la réflexion que Kant consacre au sublime dans la Critique de la faculté de juger\, il cite un exemple d’énoncé considéré par lui comme étant le plus sublime qu’on ait prononcé. Il s’agit du commandement biblique « Tu ne feras point d’image taillée… »\, référant à l’interdit de représentation et à la tradition iconoclaste. Kant superpose ainsi trois niveaux de réflexion\, esthétique\, théologique et politique\, pour promouvoir un régime négatif de la représentation : la singularité du sublime\, par lequel la transcendance de ce qui ne saurait se limiter au sensible se dévoile négativement dans un spectacle sensible\, donne à penser une critique de l’image et inaugure un symbolisme qui trouve son ancrage dans le négatif de l’image\, savoir le signe. \nDiscussion. \nPour assister en présence ou recevoir le lien zoom\, inscription obligatoire avant le 14 novembre : www.sofrphilo.fr \nPartager :\n				Envoyer un lien par e-mail à un ami(ouvre dans une nouvelle fenêtre)\n				E-mail\n			\n				Partager sur X(ouvre dans une nouvelle fenêtre)\n				X\n			\n				Partager sur Facebook(ouvre dans une nouvelle fenêtre)\n				Facebook\n			\n				Partager sur LinkedIn(ouvre dans une nouvelle fenêtre)\n				LinkedIn\n			\n				Imprimer(ouvre dans une nouvelle fenêtre)\n				Imprimer
URL:https://www.sofrphilo.fr/evenement/kant-1724-2024/
LOCATION:Sorbonne\, amphi Lefebvre\, 17 rue de la Sorbonne\, Paris\, 75005\, France
END:VEVENT
END:VCALENDAR