BEGIN:VCALENDAR
VERSION:2.0
PRODID:-//Société française de philosophie - ECPv6.15.20//NONSGML v1.0//EN
CALSCALE:GREGORIAN
METHOD:PUBLISH
X-WR-CALNAME:Société française de philosophie
X-ORIGINAL-URL:https://www.sofrphilo.fr
X-WR-CALDESC:Évènements pour Société française de philosophie
REFRESH-INTERVAL;VALUE=DURATION:PT1H
X-Robots-Tag:noindex
X-PUBLISHED-TTL:PT1H
BEGIN:VTIMEZONE
TZID:Europe/Helsinki
BEGIN:DAYLIGHT
TZOFFSETFROM:+0200
TZOFFSETTO:+0300
TZNAME:EEST
DTSTART:20240331T010000
END:DAYLIGHT
BEGIN:STANDARD
TZOFFSETFROM:+0300
TZOFFSETTO:+0200
TZNAME:EET
DTSTART:20241027T010000
END:STANDARD
BEGIN:DAYLIGHT
TZOFFSETFROM:+0200
TZOFFSETTO:+0300
TZNAME:EEST
DTSTART:20250330T010000
END:DAYLIGHT
BEGIN:STANDARD
TZOFFSETFROM:+0300
TZOFFSETTO:+0200
TZNAME:EET
DTSTART:20251026T010000
END:STANDARD
BEGIN:DAYLIGHT
TZOFFSETFROM:+0200
TZOFFSETTO:+0300
TZNAME:EEST
DTSTART:20260329T010000
END:DAYLIGHT
BEGIN:STANDARD
TZOFFSETFROM:+0300
TZOFFSETTO:+0200
TZNAME:EET
DTSTART:20261025T010000
END:STANDARD
END:VTIMEZONE
BEGIN:VEVENT
DTSTART;TZID=Europe/Helsinki:20250315T160000
DTEND;TZID=Europe/Helsinki:20250315T180000
DTSTAMP:20260423T205559
CREATED:20250219T125155Z
LAST-MODIFIED:20250219T125155Z
UID:16672-1742054400-1742061600@www.sofrphilo.fr
SUMMARY:« Des confessions » (Philippe Büttgen)
DESCRIPTION:Partager :\n				Envoyer un lien par e-mail à un ami(ouvre dans une nouvelle fenêtre)\n				E-mail\n			\n				Partager sur X(ouvre dans une nouvelle fenêtre)\n				X\n			\n				Partager sur Facebook(ouvre dans une nouvelle fenêtre)\n				Facebook\n			\n				Partager sur LinkedIn(ouvre dans une nouvelle fenêtre)\n				LinkedIn\n			\n				Imprimer(ouvre dans une nouvelle fenêtre)\n				Imprimer
URL:https://www.sofrphilo.fr/evenement/des-confessions-philippe-buttgen/
LOCATION:Université Paris I Panthéon-Sorbonne\, salle 6 (centre Panthéon)\, 12 place du Panthéon\, Paris\, 75005
CATEGORIES:Conférences
END:VEVENT
BEGIN:VEVENT
DTSTART;TZID=Europe/Helsinki:20250328T090000
DTEND;TZID=Europe/Helsinki:20250329T130000
DTSTAMP:20260423T205559
CREATED:20250309T143356Z
LAST-MODIFIED:20250309T143404Z
UID:16754-1743152400-1743253200@www.sofrphilo.fr
SUMMARY:Colloque L'œuvre de Bernard Bourgeois
DESCRIPTION:Colloque co-organisé par l’université Paris 1 Panthéon-Sorbonne\, Sorbonne Université et la Société française de philosophie. \nProgramme et inscription ici. \nPartager :\n				Envoyer un lien par e-mail à un ami(ouvre dans une nouvelle fenêtre)\n				E-mail\n			\n				Partager sur X(ouvre dans une nouvelle fenêtre)\n				X\n			\n				Partager sur Facebook(ouvre dans une nouvelle fenêtre)\n				Facebook\n			\n				Partager sur LinkedIn(ouvre dans une nouvelle fenêtre)\n				LinkedIn\n			\n				Imprimer(ouvre dans une nouvelle fenêtre)\n				Imprimer
URL:https://www.sofrphilo.fr/evenement/colloque-loeuvre-de-bernard-bourgeois/
LOCATION:Centre Panthéon\, 12 place du Panthéon\, Paris\, 75005
CATEGORIES:Colloques et Congrès
END:VEVENT
END:VCALENDAR